Workbook
Name Hari: DayTime!$A$2:$B$6
Name Jam: DayTime!$A$9:$B$16

Sheet Jadwal PerKelas
A1: POLITEKNIK NEGERI BALI
A2: JURUSAN TEKNIK SIPIL
A3: JADWAL PERKULIAHAN TEORI PER KELAS
A4: SEMESTER GENAP TA. 2024-2025
A6: Hari | B6: Waktu | C6: Jam Ke | D6: D3 TS-2A
D7: Mata Kuliah | E7: Dosen Pengampu I | F7: Dosen Pengampu II
A8: SENIN | B8: 08:00 - 08:50 | C8: 1 | D8: =IFERROR(VLOOKUP($D$6&"1"&$C8,DataJadwal!$G$2:$L$782,4,FALSE),"") | E8: =IFERROR(VLOOKUP($D$6&"1"&$C8,DataJadwal!$G$2:$L$782,5,FALSE),"") | F8: =IF(IFERROR(VLOOKUP($D$6&"1"&$C8,DataJadwal!$G$2:$L$782,6,FALSE),"")=0,"",IFERROR(VLOOKUP($D$6&"1"&$C8,DataJadwal!$G$2:$L$782,6,FALSE),""))
B9: 08:50 - 09:40 | C9: 2 | D9: =IFERROR(VLOOKUP($D$6&"1"&$C9,DataJadwal!$G$2:$L$782,4,FALSE),"") -> MKK2422401207 - Hidrologi [2 SKS] | E9: =IFERROR(VLOOKUP($D$6&"1"&$C9,DataJadwal!$G$2:$L$782,5,FALSE),"") -> 02 - Ir. Made Mudhina, M.T. | F9: =IF(IFERROR(VLOOKUP($D$6&"1"&$C9,DataJadwal!$G$2:$L$782,6,FALSE),"")=0,"",IFERROR(VLOOKUP($D$6&"1"&$C9,DataJadwal!$G$2:$L$782,6,FALSE),""))
B10: 10:00 - 10:50 | C10: 3 | D10: =IFERROR(VLOOKUP($D$6&"1"&$C10,DataJadwal!$G$2:$L$782,4,FALSE),"") -> MKK2422401207 - Hidrologi [2 SKS] | E10: =IFERROR(VLOOKUP($D$6&"1"&$C10,DataJadwal!$G$2:$L$782,5,FALSE),"") -> 02 - Ir. Made Mudhina, M.T. | F10: =IF(IFERROR(VLOOKUP($D$6&"1"&$C10,DataJadwal!$G$2:$L$782,6,FALSE),"")=0,"",IFERROR(VLOOKUP($D$6&"1"&$C10,DataJadwal!$G$2:$L$782,6,FALSE),""))
B11: 10:50 - 11:40 | C11: 4 | D11: =IFERROR(VLOOKUP($D$6&"1"&$C11,DataJadwal!$G$2:$L$782,4,FALSE),"") -> MKK2422401207 - Hidrologi [2 SKS] | E11: =IFERROR(VLOOKUP($D$6&"1"&$C11,DataJadwal!$G$2:$L$782,5,FALSE),"") -> 02 - Ir. Made Mudhina, M.T. | F11: =IF(IFERROR(VLOOKUP($D$6&"1"&$C11,DataJadwal!$G$2:$L$782,6,FALSE),"")=0,"",IFERROR(VLOOKUP($D$6&"1"&$C11,DataJadwal!$G$2:$L$782,6,FALSE),""))
B12: 12:00 - 12:50 | C12: 5 | D12: =IFERROR(VLOOKUP($D$6&"1"&$C12,DataJadwal!$G$2:$L$782,4,FALSE),"") -> MKK2422401205 - Mekanika Tanah 1 [2 SKS] | E12: =IFERROR(VLOOKUP($D$6&"1"&$C12,DataJadwal!$G$2:$L$782,5,FALSE),"") -> 47 - I Made Wahyu Pramana, S.T., M.T. | F12: =IF(IFERROR(VLOOKUP($D$6&"1"&$C12,DataJadwal!$G$2:$L$782,6,FALSE),"")=0,"",IFERROR(VLOOKUP($D$6&"1"&$C12,DataJadwal!$G$2:$L$782,6,FALSE),""))
B13: 12:50 - 13:40 | C13: 6 | D13: =IFERROR(VLOOKUP($D$6&"1"&$C13,DataJadwal!$G$2:$L$782,4,FALSE),"") -> MKK2422401205 - Mekanika Tanah 1 [2 SKS] | E13: =IFERROR(VLOOKUP($D$6&"1"&$C13,DataJadwal!$G$2:$L$782,5,FALSE),"") -> 47 - I Made Wahyu Pramana, S.T., M.T. | F13: =IF(IFERROR(VLOOKUP($D$6&"1"&$C13,DataJadwal!$G$2:$L$782,6,FALSE),"")=0,"",IFERROR(VLOOKUP($D$6&"1"&$C13,DataJadwal!$G$2:$L$782,6,FALSE),""))
B14: 13:50 - 14:40 | C14: 7 | D14: =IFERROR(VLOOKUP($D$6&"1"&$C14,DataJadwal!$G$2:$L$782,4,FALSE),"") -> MKK2422401205 - Mekanika Tanah 1 [2 SKS] | E14: =IFERROR(VLOOKUP($D$6&"1"&$C14,DataJadwal!$G$2:$L$782,5,FALSE),"") -> 47 - I Made Wahyu Pramana, S.T., M.T. | F14: =IF(IFERROR(VLOOKUP($D$6&"1"&$C14,DataJadwal!$G$2:$L$782,6,FALSE),"")=0,"",IFERROR(VLOOKUP($D$6&"1"&$C14,DataJadwal!$G$2:$L$782,6,FALSE),""))
B15: 14:40 - 15:30 | C15: 8 | D15: =IFERROR(VLOOKUP($D$6&"1"&$C15,DataJadwal!$G$2:$L$782,4,FALSE),"") | E15: =IFERROR(VLOOKUP($D$6&"1"&$C15,DataJadwal!$G$2:$L$782,5,FALSE),"") | F15: =IF(IFERROR(VLOOKUP($D$6&"1"&$C15,DataJadwal!$G$2:$L$782,6,FALSE),"")=0,"",IFERROR(VLOOKUP($D$6&"1"&$C15,DataJadwal!$G$2:$L$782,6,FALSE),""))
A16: SELASA | B16: 08:00 - 08:50 | C16: 1 | D16: =IFERROR(VLOOKUP($D$6&"2"&$C16,DataJadwal!$G$2:$L$782,4,FALSE),"") | E16: =IFERROR(VLOOKUP($D$6&"2"&$C16,DataJadwal!$G$2:$L$782,5,FALSE),"") | F16: =IF(IFERROR(VLOOKUP($D$6&"2"&$C16,DataJadwal!$G$2:$L$782,6,FALSE),"")=0,"",IFERROR(VLOOKUP($D$6&"2"&$C16,DataJadwal!$G$2:$L$782,6,FALSE),""))
B17: 08:50 - 09:40 | C17: 2 | D17: =IFERROR(VLOOKUP($D$6&"2"&$C17,DataJadwal!$G$2:$L$782,4,FALSE),"") | E17: =IFERROR(VLOOKUP($D$6&"2"&$C17,DataJadwal!$G$2:$L$782,5,FALSE),"") | F17: =IF(IFERROR(VLOOKUP($D$6&"2"&$C17,DataJadwal!$G$2:$L$782,6,FALSE),"")=0,"",IFERROR(VLOOKUP($D$6&"2"&$C17,DataJadwal!$G$2:$L$782,6,FALSE),""))
B18: 10:00 - 10:50 | C18: 3 | D18: =IFERROR(VLOOKUP($D$6&"2"&$C18,DataJadwal!$G$2:$L$782,4,FALSE),"") -> MBB2422401201 - Kewarganegaraan [2 SKS] | E18: =IFERROR(VLOOKUP($D$6&"2"&$C18,DataJadwal!$G$2:$L$782,5,FALSE),"") -> 28 - Anak Agung Ngurah Roy Sumardika, S.H., M.H. | F18: =IF(IFERROR(VLOOKUP($D$6&"2"&$C18,DataJadwal!$G$2:$L$782,6,FALSE),"")=0,"",IFERROR(VLOOKUP($D$6&"2"&$C18,DataJadwal!$G$2:$L$782,6,FALSE),""))
B19: 10:50 - 11:40 | C19: 4 | D19: =IFERROR(VLOOKUP($D$6&"2"&$C19,DataJadwal!$G$2:$L$782,4,FALSE),"") -> MBB2422401201 - Kewarganegaraan [2 SKS] | E19: =IFERROR(VLOOKUP($D$6&"2"&$C19,DataJadwal!$G$2:$L$782,5,FALSE),"") -> 28 - Anak Agung Ngurah Roy Sumardika, S.H., M.H. | F19: =IF(IFERROR(VLOOKUP($D$6&"2"&$C19,DataJadwal!$G$2:$L$782,6,FALSE),"")=0,"",IFERROR(VLOOKUP($D$6&"2"&$C19,DataJadwal!$G$2:$L$782,6,FALSE),""))
B20: 12:00 - 12:50 | C20: 5 | D20: =IFERROR(VLOOKUP($D$6&"2"&$C20,DataJadwal!$G$2:$L$782,4,FALSE),"") -> MBB2422401201 - Kewarganegaraan [2 SKS] | E20: =IFERROR(VLOOKUP($D$6&"2"&$C20,DataJadwal!$G$2:$L$782,5,FALSE),"") -> 28 - Anak Agung Ngurah Roy Sumardika, S.H., M.H. | F20: =IF(IFERROR(VLOOKUP($D$6&"2"&$C20,DataJadwal!$G$2:$L$782,6,FALSE),"")=0,"",IFERROR(VLOOKUP($D$6&"2"&$C20,DataJadwal!$G$2:$L$782,6,FALSE),""))
B21: 12:50 - 13:40 | C21: 6 | D21: =IFERROR(VLOOKUP($D$6&"2"&$C21,DataJadwal!$G$2:$L$782,4,FALSE),"") -> MKB2422401205 - Aplikasi Komputer Rancang Bangun [2 SKS] | E21: =IFERROR(VLOOKUP($D$6&"2"&$C21,DataJadwal!$G$2:$L$782,5,FALSE),"") -> 45 - I Gst. Pt. Adi Suartika Putra, S.ST.Spl., M.T. | F21: =IF(IFERROR(VLOOKUP($D$6&"2"&$C21,DataJadwal!$G$2:$L$782,6,FALSE),"")=0,"",IFERROR(VLOOKUP($D$6&"2"&$C21,DataJadwal!$G$2:$L$782,6,FALSE),""))
B22: 13:50 - 14:40 | C22: 7 | D22: =IFERROR(VLOOKUP($D$6&"2"&$C22,DataJadwal!$G$2:$L$782,4,FALSE),"") -> MKB2422401205 - Aplikasi Komputer Rancang Bangun [2 SKS] | E22: =IFERROR(VLOOKUP($D$6&"2"&$C22,DataJadwal!$G$2:$L$782,5,FALSE),"") -> 45 - I Gst. Pt. Adi Suartika Putra, S.ST.Spl., M.T. | F22: =IF(IFERROR(VLOOKUP($D$6&"2"&$C22,DataJadwal!$G$2:$L$782,6,FALSE),"")=0,"",IFERROR(VLOOKUP($D$6&"2"&$C22,DataJadwal!$G$2:$L$782,6,FALSE),""))
B23: 14:40 - 15:30 | C23: 8 | D23: =IFERROR(VLOOKUP($D$6&"2"&$C23,DataJadwal!$G$2:$L$782,4,FALSE),"") -> MKB2422401205 - Aplikasi Komputer Rancang Bangun [2 SKS] | E23: =IFERROR(VLOOKUP($D$6&"2"&$C23,DataJadwal!$G$2:$L$782,5,FALSE),"") -> 45 - I Gst. Pt. Adi Suartika Putra, S.ST.Spl., M.T. | F23: =IF(IFERROR(VLOOKUP($D$6&"2"&$C23,DataJadwal!$G$2:$L$782,6,FALSE),"")=0,"",IFERROR(VLOOKUP($D$6&"2"&$C23,DataJadwal!$G$2:$L$782,6,FALSE),""))
A24: RABU | B24: 08:00 - 08:50 | C24: 1 | D24: =IFERROR(VLOOKUP($D$6&"3"&$C24,DataJadwal!$G$2:$L$782,4,FALSE),"") | E24: =IFERROR(VLOOKUP($D$6&"3"&$C24,DataJadwal!$G$2:$L$782,5,FALSE),"") | F24: =IF(IFERROR(VLOOKUP($D$6&"3"&$C24,DataJadwal!$G$2:$L$782,6,FALSE),"")=0,"",IFERROR(VLOOKUP($D$6&"3"&$C24,DataJadwal!$G$2:$L$782,6,FALSE),""))
B25: 08:50 - 09:40 | C25: 2 | D25: =IFERROR(VLOOKUP($D$6&"3"&$C25,DataJadwal!$G$2:$L$782,4,FALSE),"") | E25: =IFERROR(VLOOKUP($D$6&"3"&$C25,DataJadwal!$G$2:$L$782,5,FALSE),"") | F25: =IF(IFERROR(VLOOKUP($D$6&"3"&$C25,DataJadwal!$G$2:$L$782,6,FALSE),"")=0,"",IFERROR(VLOOKUP($D$6&"3"&$C25,DataJadwal!$G$2:$L$782,6,FALSE),""))
B26: 10:00 - 10:50 | C26: 3 | D26: =IFERROR(VLOOKUP($D$6&"3"&$C26,DataJadwal!$G$2:$L$782,4,FALSE),"") | E26: =IFERROR(VLOOKUP($D$6&"3"&$C26,DataJadwal!$G$2:$L$782,5,FALSE),"") | F26: =IF(IFERROR(VLOOKUP($D$6&"3"&$C26,DataJadwal!$G$2:$L$782,6,FALSE),"")=0,"",IFERROR(VLOOKUP($D$6&"3"&$C26,DataJadwal!$G$2:$L$782,6,FALSE),""))
B27: 10:50 - 11:40 | C27: 4 | D27: =IFERROR(VLOOKUP($D$6&"3"&$C27,DataJadwal!$G$2:$L$782,4,FALSE),"") | E27: =IFERROR(VLOOKUP($D$6&"3"&$C27,DataJadwal!$G$2:$L$782,5,FALSE),"") | F27: =IF(IFERROR(VLOOKUP($D$6&"3"&$C27,DataJadwal!$G$2:$L$782,6,FALSE),"")=0,"",IFERROR(VLOOKUP($D$6&"3"&$C27,DataJadwal!$G$2:$L$782,6,FALSE),""))
B28: 12:00 - 12:50 | C28: 5 | D28: =IFERROR(VLOOKUP($D$6&"3"&$C28,DataJadwal!$G$2:$L$782,4,FALSE),"") -> MDK2422401202 - Matematika Terapan [2 SKS] | E28: =IFERROR(VLOOKUP($D$6&"3"&$C28,DataJadwal!$G$2:$L$782,5,FALSE),"") -> 27 - I Made Anom Santiana, S.Si.,M.Erg. | F28: =IF(IFERROR(VLOOKUP($D$6&"3"&$C28,DataJadwal!$G$2:$L$782,6,FALSE),"")=0,"",IFERROR(VLOOKUP($D$6&"3"&$C28,DataJadwal!$G$2:$L$782,6,FALSE),""))
B29: 12:50 - 13:40 | C29: 6 | D29: =IFERROR(VLOOKUP($D$6&"3"&$C29,DataJadwal!$G$2:$L$782,4,FALSE),"") -> MDK2422401202 - Matematika Terapan [2 SKS] | E29: =IFERROR(VLOOKUP($D$6&"3"&$C29,DataJadwal!$G$2:$L$782,5,FALSE),"") -> 27 - I Made Anom Santiana, S.Si.,M.Erg. | F29: =IF(IFERROR(VLOOKUP($D$6&"3"&$C29,DataJadwal!$G$2:$L$782,6,FALSE),"")=0,"",IFERROR(VLOOKUP($D$6&"3"&$C29,DataJadwal!$G$2:$L$782,6,FALSE),""))
B30: 13:50 - 14:40 | C30: 7 | D30: =IFERROR(VLOOKUP($D$6&"3"&$C30,DataJadwal!$G$2:$L$782,4,FALSE),"") -> MDK2422401202 - Matematika Terapan [2 SKS] | E30: =IFERROR(VLOOKUP($D$6&"3"&$C30,DataJadwal!$G$2:$L$782,5,FALSE),"") -> 27 - I Made Anom Santiana, S.Si.,M.Erg. | F30: =IF(IFERROR(VLOOKUP($D$6&"3"&$C30,DataJadwal!$G$2:$L$782,6,FALSE),"")=0,"",IFERROR(VLOOKUP($D$6&"3"&$C30,DataJadwal!$G$2:$L$782,6,FALSE),""))
B31: 14:40 - 15:30 | C31: 8 | D31: =IFERROR(VLOOKUP($D$6&"3"&$C31,DataJadwal!$G$2:$L$782,4,FALSE),"") | E31: =IFERROR(VLOOKUP($D$6&"3"&$C31,DataJadwal!$G$2:$L$782,5,FALSE),"") | F31: =IF(IFERROR(VLOOKUP($D$6&"3"&$C31,DataJadwal!$G$2:$L$782,6,FALSE),"")=0,"",IFERROR(VLOOKUP($D$6&"3"&$C31,DataJadwal!$G$2:$L$782,6,FALSE),""))
A32: KAMIS | B32: 08:00 - 08:50 | C32: 1 | D32: =IFERROR(VLOOKUP($D$6&"4"&$C32,DataJadwal!$G$2:$L$782,4,FALSE),"") -> MKK2422401208 - Hidrolika [2 SKS] | E32: =IFERROR(VLOOKUP($D$6&"4"&$C32,DataJadwal!$G$2:$L$782,5,FALSE),"") -> 33 - Kt. Wiwin Andayani, S.T.,M.T. | F32: =IF(IFERROR(VLOOKUP($D$6&"4"&$C32,DataJadwal!$G$2:$L$782,6,FALSE),"")=0,"",IFERROR(VLOOKUP($D$6&"4"&$C32,DataJadwal!$G$2:$L$782,6,FALSE),""))
B33: 08:50 - 09:40 | C33: 2 | D33: =IFERROR(VLOOKUP($D$6&"4"&$C33,DataJadwal!$G$2:$L$782,4,FALSE),"") -> MKK2422401208 - Hidrolika [2 SKS] | E33: =IFERROR(VLOOKUP($D$6&"4"&$C33,DataJadwal!$G$2:$L$782,5,FALSE),"") -> 33 - Kt. Wiwin Andayani, S.T.,M.T. | F33: =IF(IFERROR(VLOOKUP($D$6&"4"&$C33,DataJadwal!$G$2:$L$782,6,FALSE),"")=0,"",IFERROR(VLOOKUP($D$6&"4"&$C33,DataJadwal!$G$2:$L$782,6,FALSE),""))
B34: 10:00 - 10:50 | C34: 3 | D34: =IFERROR(VLOOKUP($D$6&"4"&$C34,DataJadwal!$G$2:$L$782,4,FALSE),"") -> MKK2422401208 - Hidrolika [2 SKS] | E34: =IFERROR(VLOOKUP($D$6&"4"&$C34,DataJadwal!$G$2:$L$782,5,FALSE),"") -> 33 - Kt. Wiwin Andayani, S.T.,M.T. | F34: =IF(IFERROR(VLOOKUP($D$6&"4"&$C34,DataJadwal!$G$2:$L$782,6,FALSE),"")=0,"",IFERROR(VLOOKUP($D$6&"4"&$C34,DataJadwal!$G$2:$L$782,6,FALSE),""))
B35: 10:50 - 11:40 | C35: 4 | D35: =IFERROR(VLOOKUP($D$6&"4"&$C35,DataJadwal!$G$2:$L$782,4,FALSE),"") -> MKK2422401206 - Mekanika Teknik 2 [2 SKS] | E35: =IFERROR(VLOOKUP($D$6&"4"&$C35,DataJadwal!$G$2:$L$782,5,FALSE),"") -> 34 - I Komang Sudiarta, S.T., M.T. | F35: =IF(IFERROR(VLOOKUP($D$6&"4"&$C35,DataJadwal!$G$2:$L$782,6,FALSE),"")=0,"",IFERROR(VLOOKUP($D$6&"4"&$C35,DataJadwal!$G$2:$L$782,6,FALSE),""))
B36: 12:00 - 12:50 | C36: 5 | D36: =IFERROR(VLOOKUP($D$6&"4"&$C36,DataJadwal!$G$2:$L$782,4,FALSE),"") -> MKK2422401206 - Mekanika Teknik 2 [2 SKS] | E36: =IFERROR(VLOOKUP($D$6&"4"&$C36,DataJadwal!$G$2:$L$782,5,FALSE),"") -> 34 - I Komang Sudiarta, S.T., M.T. | F36: =IF(IFERROR(VLOOKUP($D$6&"4"&$C36,DataJadwal!$G$2:$L$782,6,FALSE),"")=0,"",IFERROR(VLOOKUP($D$6&"4"&$C36,DataJadwal!$G$2:$L$782,6,FALSE),""))
B37: 12:50 - 13:40 | C37: 6 | D37: =IFERROR(VLOOKUP($D$6&"4"&$C37,DataJadwal!$G$2:$L$782,4,FALSE),"") -> MKK2422401206 - Mekanika Teknik 2 [2 SKS] | E37: =IFERROR(VLOOKUP($D$6&"4"&$C37,DataJadwal!$G$2:$L$782,5,FALSE),"") -> 34 - I Komang Sudiarta, S.T., M.T. | F37: =IF(IFERROR(VLOOKUP($D$6&"4"&$C37,DataJadwal!$G$2:$L$782,6,FALSE),"")=0,"",IFERROR(VLOOKUP($D$6&"4"&$C37,DataJadwal!$G$2:$L$782,6,FALSE),""))
B38: 13:50 - 14:40 | C38: 7 | D38: =IFERROR(VLOOKUP($D$6&"4"&$C38,DataJadwal!$G$2:$L$782,4,FALSE),"") | E38: =IFERROR(VLOOKUP($D$6&"4"&$C38,DataJadwal!$G$2:$L$782,5,FALSE),"") | F38: =IF(IFERROR(VLOOKUP($D$6&"4"&$C38,DataJadwal!$G$2:$L$782,6,FALSE),"")=0,"",IFERROR(VLOOKUP($D$6&"4"&$C38,DataJadwal!$G$2:$L$782,6,FALSE),""))
B39: 14:40 - 15:30 | C39: 8 | D39: =IFERROR(VLOOKUP($D$6&"4"&$C39,DataJadwal!$G$2:$L$782,4,FALSE),"") | E39: =IFERROR(VLOOKUP($D$6&"4"&$C39,DataJadwal!$G$2:$L$782,5,FALSE),"") | F39: =IF(IFERROR(VLOOKUP($D$6&"4"&$C39,DataJadwal!$G$2:$L$782,6,FALSE),"")=0,"",IFERROR(VLOOKUP($D$6&"4"&$C39,DataJadwal!$G$2:$L$782,6,FALSE),""))
A40: JUMAT | B40: 08:00 - 08:50 | C40: 1 | D40: =IFERROR(VLOOKUP($D$6&"5"&$C40,DataJadwal!$G$2:$L$782,4,FALSE),"") | E40: =IFERROR(VLOOKUP($D$6&"5"&$C40,DataJadwal!$G$2:$L$782,5,FALSE),"") | F40: =IF(IFERROR(VLOOKUP($D$6&"5"&$C40,DataJadwal!$G$2:$L$782,6,FALSE),"")=0,"",IFERROR(VLOOKUP($D$6&"5"&$C40,DataJadwal!$G$2:$L$782,6,FALSE),""))
B41: 08:50 - 09:40 | C41: 2 | D41: =IFERROR(VLOOKUP($D$6&"5"&$C41,DataJadwal!$G$2:$L$782,4,FALSE),"") | E41: =IFERROR(VLOOKUP($D$6&"5"&$C41,DataJadwal!$G$2:$L$782,5,FALSE),"") | F41: =IF(IFERROR(VLOOKUP($D$6&"5"&$C41,DataJadwal!$G$2:$L$782,6,FALSE),"")=0,"",IFERROR(VLOOKUP($D$6&"5"&$C41,DataJadwal!$G$2:$L$782,6,FALSE),""))
...

Sheet Jadwal PerDosen
A1: POLITEKNIK NEGERI BALI
A2: JURUSAN TEKNIK SIPIL
A3: JADWAL PERKULIAHAN TEORI PER DOSEN
A4: SEMESTER GENAP TA. 2024-2025
A6: NAMA DOSEN : | C6: 01 - Prof. Dr.Ir. Lilik Sudiajeng, M.Erg.
A8: Hari | B8: Waktu | C8: Jam Ke | D8: Sebagai Dosen Pengampu I | G8: Sebagai Dosen Pengampu II
D9: Mata Kuliah | E9: Kelas | F9: Dosen Pengampu II | G9: Mata Kuliah | H9: Kelas | I9: Dosen Pengampu I
A10: SENIN | B10: 08:00 - 08:50 | C10: 1 | D10: =IFERROR(INDEX(DataJadwal!$J$2:$J$763,MATCH(LEFT($C$6,2)&"1"&$C10,DataJadwal!$H$2:$H$763,0)),"") -> MHR41103 - Sistem Manajemen Kesehatan, Keselamatan, Kerja [2 SKS] | E10: =IFERROR(INDEX(DataJadwal!$F$2:$F$763,MATCH(LEFT($C$6,2)&"1"&$C10,DataJadwal!$H$2:$H$763,0)),"") -> D3 TS-4A | F10: =IFERROR(INDEX(DataJadwal!$L$2:$L$763,MATCH(LEFT($C$6,2)&"1"&$C10,DataJadwal!$H$2:$H$763,0)),"") | G10: =IFERROR(INDEX(DataJadwal!$J$2:$J$763,MATCH(LEFT($C$6,2)&"1"&$C10,DataJadwal!$I$2:$I$763,0)),"") | H10: =IFERROR(INDEX(DataJadwal!$F$2:$F$763,MATCH(LEFT($C$6,2)&"1"&$C10,DataJadwal!$I$2:$I$763,0)),"") | I10: =IFERROR(INDEX(DataJadwal!$K$2:$K$763,MATCH(LEFT($C$6,2)&"1"&$C10,DataJadwal!$I$2:$I$763,0)),"")
B11: 08:50 - 09:40 | C11: 2 | D11: =IFERROR(INDEX(DataJadwal!$J$2:$J$763,MATCH(LEFT($C$6,2)&"1"&$C11,DataJadwal!$H$2:$H$763,0)),"") -> MHR41103 - Sistem Manajemen Kesehatan, Keselamatan, Kerja [2 SKS] | E11: =IFERROR(INDEX(DataJadwal!$F$2:$F$763,MATCH(LEFT($C$6,2)&"1"&$C11,DataJadwal!$H$2:$H$763,0)),"") -> D3 TS-4A | F11: =IFERROR(INDEX(DataJadwal!$L$2:$L$763,MATCH(LEFT($C$6,2)&"1"&$C11,DataJadwal!$H$2:$H$763,0)),"") | G11: =IFERROR(INDEX(DataJadwal!$J$2:$J$763,MATCH(LEFT($C$6,2)&"1"&$C11,DataJadwal!$I$2:$I$763,0)),"") | H11: =IFERROR(INDEX(DataJadwal!$F$2:$F$763,MATCH(LEFT($C$6,2)&"1"&$C11,DataJadwal!$I$2:$I$763,0)),"") | I11: =IFERROR(INDEX(DataJadwal!$K$2:$K$763,MATCH(LEFT($C$6,2)&"1"&$C11,DataJadwal!$I$2:$I$763,0)),"")
B12: 10:00 - 10:50 | C12: 3 | D12: =IFERROR(INDEX(DataJadwal!$J$2:$J$763,MATCH(LEFT($C$6,2)&"1"&$C12,DataJadwal!$H$2:$H$763,0)),"") -> MKK61238 - Metode Penelitian [2 SKS] | E12: =IFERROR(INDEX(DataJadwal!$F$2:$F$763,MATCH(LEFT($C$6,2)&"1"&$C12,DataJadwal!$H$2:$H$763,0)),"") -> STr. MPK-6A | F12: =IFERROR(INDEX(DataJadwal!$L$2:$L$763,MATCH(LEFT($C$6,2)&"1"&$C12,DataJadwal!$H$2:$H$763,0)),"") | G12: =IFERROR(INDEX(DataJadwal!$J$2:$J$763,MATCH(LEFT($C$6,2)&"1"&$C12,DataJadwal!$I$2:$I$763,0)),"") | H12: =IFERROR(INDEX(DataJadwal!$F$2:$F$763,MATCH(LEFT($C$6,2)&"1"&$C12,DataJadwal!$I$2:$I$763,0)),"") | I12: =IFERROR(INDEX(DataJadwal!$K$2:$K$763,MATCH(LEFT($C$6,2)&"1"&$C12,DataJadwal!$I$2:$I$763,0)),"")
B13: 10:50 - 11:40 | C13: 4 | D13: =IFERROR(INDEX(DataJadwal!$J$2:$J$763,MATCH(LEFT($C$6,2)&"1"&$C13,DataJadwal!$H$2:$H$763,0)),"") -> MKK61238 - Metode Penelitian [2 SKS] | E13: =IFERROR(INDEX(DataJadwal!$F$2:$F$763,MATCH(LEFT($C$6,2)&"1"&$C13,DataJadwal!$H$2:$H$763,0)),"") -> STr. MPK-6A | F13: =IFERROR(INDEX(DataJadwal!$L$2:$L$763,MATCH(LEFT($C$6,2)&"1"&$C13,DataJadwal!$H$2:$H$763,0)),"") | G13: =IFERROR(INDEX(DataJadwal!$J$2:$J$763,MATCH(LEFT($C$6,2)&"1"&$C13,DataJadwal!$I$2:$I$763,0)),"") | H13: =IFERROR(INDEX(DataJadwal!$F$2:$F$763,MATCH(LEFT($C$6,2)&"1"&$C13,DataJadwal!$I$2:$I$763,0)),"") | I13: =IFERROR(INDEX(DataJadwal!$K$2:$K$763,MATCH(LEFT($C$6,2)&"1"&$C13,DataJadwal!$I$2:$I$763,0)),"")
B14: 12:00 - 12:50 | C14: 5 | D14: =IFERROR(INDEX(DataJadwal!$J$2:$J$763,MATCH(LEFT($C$6,2)&"1"&$C14,DataJadwal!$H$2:$H$763,0)),"") -> MKK61238 - Metode Penelitian [2 SKS] | E14: =IFERROR(INDEX(DataJadwal!$F$2:$F$763,MATCH(LEFT($C$6,2)&"1"&$C14,DataJadwal!$H$2:$H$763,0)),"") -> STr. MPK-6A | F14: =IFERROR(INDEX(DataJadwal!$L$2:$L$763,MATCH(LEFT($C$6,2)&"1"&$C14,DataJadwal!$H$2:$H$763,0)),"") | G14: =IFERROR(INDEX(DataJadwal!$J$2:$J$763,MATCH(LEFT($C$6,2)&"1"&$C14,DataJadwal!$I$2:$I$763,0)),"") | H14: =IFERROR(INDEX(DataJadwal!$F$2:$F$763,MATCH(LEFT($C$6,2)&"1"&$C14,DataJadwal!$I$2:$I$763,0)),"") | I14: =IFERROR(INDEX(DataJadwal!$K$2:$K$763,MATCH(LEFT($C$6,2)&"1"&$C14,DataJadwal!$I$2:$I$763,0)),"")
B15: 12:50 - 13:40 | C15: 6 | D15: =IFERROR(INDEX(DataJadwal!$J$2:$J$763,MATCH(LEFT($C$6,2)&"1"&$C15,DataJadwal!$H$2:$H$763,0)),"") -> MKK61238 - Metode Penelitian [2 SKS] | E15: =IFERROR(INDEX(DataJadwal!$F$2:$F$763,MATCH(LEFT($C$6,2)&"1"&$C15,DataJadwal!$H$2:$H$763,0)),"") -> STr. MPK-6B | F15: =IFERROR(INDEX(DataJadwal!$L$2:$L$763,MATCH(LEFT($C$6,2)&"1"&$C15,DataJadwal!$H$2:$H$763,0)),"") | G15: =IFERROR(INDEX(DataJadwal!$J$2:$J$763,MATCH(LEFT($C$6,2)&"1"&$C15,DataJadwal!$I$2:$I$763,0)),"") | H15: =IFERROR(INDEX(DataJadwal!$F$2:$F$763,MATCH(LEFT($C$6,2)&"1"&$C15,DataJadwal!$I$2:$I$763,0)),"") | I15: =IFERROR(INDEX(DataJadwal!$K$2:$K$763,MATCH(LEFT($C$6,2)&"1"&$C15,DataJadwal!$I$2:$I$763,0)),"")
B16: 13:50 - 14:40 | C16: 7 | D16: =IFERROR(INDEX(DataJadwal!$J$2:$J$763,MATCH(LEFT($C$6,2)&"1"&$C16,DataJadwal!$H$2:$H$763,0)),"") -> MKK61238 - Metode Penelitian [2 SKS] | E16: =IFERROR(INDEX(DataJadwal!$F$2:$F$763,MATCH(LEFT($C$6,2)&"1"&$C16,DataJadwal!$H$2:$H$763,0)),"") -> STr. MPK-6B | F16: =IFERROR(INDEX(DataJadwal!$L$2:$L$763,MATCH(LEFT($C$6,2)&"1"&$C16,DataJadwal!$H$2:$H$763,0)),"") | G16: =IFERROR(INDEX(DataJadwal!$J$2:$J$763,MATCH(LEFT($C$6,2)&"1"&$C16,DataJadwal!$I$2:$I$763,0)),"") | H16: =IFERROR(INDEX(DataJadwal!$F$2:$F$763,MATCH(LEFT($C$6,2)&"1"&$C16,DataJadwal!$I$2:$I$763,0)),"") | I16: =IFERROR(INDEX(DataJadwal!$K$2:$K$763,MATCH(LEFT($C$6,2)&"1"&$C16,DataJadwal!$I$2:$I$763,0)),"")
B17: 14:40 - 15:30 | C17: 8 | D17: =IFERROR(INDEX(DataJadwal!$J$2:$J$763,MATCH(LEFT($C$6,2)&"1"&$C17,DataJadwal!$H$2:$H$763,0)),"") -> MKK61238 - Metode Penelitian [2 SKS] | E17: =IFERROR(INDEX(DataJadwal!$F$2:$F$763,MATCH(LEFT($C$6,2)&"1"&$C17,DataJadwal!$H$2:$H$763,0)),"") -> STr. MPK-6B | F17: =IFERROR(INDEX(DataJadwal!$L$2:$L$763,MATCH(LEFT($C$6,2)&"1"&$C17,DataJadwal!$H$2:$H$763,0)),"") | G17: =IFERROR(INDEX(DataJadwal!$J$2:$J$763,MATCH(LEFT($C$6,2)&"1"&$C17,DataJadwal!$I$2:$I$763,0)),"") | H17: =IFERROR(INDEX(DataJadwal!$F$2:$F$763,MATCH(LEFT($C$6,2)&"1"&$C17,DataJadwal!$I$2:$I$763,0)),"") | I17: =IFERROR(INDEX(DataJadwal!$K$2:$K$763,MATCH(LEFT($C$6,2)&"1"&$C17,DataJadwal!$I$2:$I$763,0)),"")
A18: SELASA | B18: 08:00 - 08:50 | C18: 1 | D18: =IFERROR(INDEX(DataJadwal!$J$2:$J$763,MATCH(LEFT($C$6,2)&"2"&$C18,DataJadwal!$H$2:$H$763,0)),"") | E18: =IFERROR(INDEX(DataJadwal!$F$2:$F$763,MATCH(LEFT($C$6,2)&"2"&$C18,DataJadwal!$H$2:$H$763,0)),"") | F18: =IFERROR(INDEX(DataJadwal!$L$2:$L$763,MATCH(LEFT($C$6,2)&"2"&$C18,DataJadwal!$H$2:$H$763,0)),"") | G18: =IFERROR(INDEX(DataJadwal!$J$2:$J$763,MATCH(LEFT($C$6,2)&"2"&$C18,DataJadwal!$I$2:$I$763,0)),"") | H18: =IFERROR(INDEX(DataJadwal!$F$2:$F$763,MATCH(LEFT($C$6,2)&"2"&$C18,DataJadwal!$I$2:$I$763,0)),"") | I18: =IFERROR(INDEX(DataJadwal!$K$2:$K$763,MATCH(LEFT($C$6,2)&"2"&$C18,DataJadwal!$I$2:$I$763,0)),"")
B19: 08:50 - 09:40 | C19: 2 | D19: =IFERROR(INDEX(DataJadwal!$J$2:$J$763,MATCH(LEFT($C$6,2)&"2"&$C19,DataJadwal!$H$2:$H$763,0)),"") | E19: =IFERROR(INDEX(DataJadwal!$F$2:$F$763,MATCH(LEFT($C$6,2)&"2"&$C19,DataJadwal!$H$2:$H$763,0)),"") | F19: =IFERROR(INDEX(DataJadwal!$L$2:$L$763,MATCH(LEFT($C$6,2)&"2"&$C19,DataJadwal!$H$2:$H$763,0)),"") | G19: =IFERROR(INDEX(DataJadwal!$J$2:$J$763,MATCH(LEFT($C$6,2)&"2"&$C19,DataJadwal!$I$2:$I$763,0)),"") | H19: =IFERROR(INDEX(DataJadwal!$F$2:$F$763,MATCH(LEFT($C$6,2)&"2"&$C19,DataJadwal!$I$2:$I$763,0)),"") | I19: =IFERROR(INDEX(DataJadwal!$K$2:$K$763,MATCH(LEFT($C$6,2)&"2"&$C19,DataJadwal!$I$2:$I$763,0)),"")
B20: 10:00 - 10:50 | C20: 3 | D20: =IFERROR(INDEX(DataJadwal!$J$2:$J$763,MATCH(LEFT($C$6,2)&"2"&$C20,DataJadwal!$H$2:$H$763,0)),"") | E20: =IFERROR(INDEX(DataJadwal!$F$2:$F$763,MATCH(LEFT($C$6,2)&"2"&$C20,DataJadwal!$H$2:$H$763,0)),"") | F20: =IFERROR(INDEX(DataJadwal!$L$2:$L$763,MATCH(LEFT($C$6,2)&"2"&$C20,DataJadwal!$H$2:$H$763,0)),"") | G20: =IFERROR(INDEX(DataJadwal!$J$2:$J$763,MATCH(LEFT($C$6,2)&"2"&$C20,DataJadwal!$I$2:$I$763,0)),"") | H20: =IFERROR(INDEX(DataJadwal!$F$2:$F$763,MATCH(LEFT($C$6,2)&"2"&$C20,DataJadwal!$I$2:$I$763,0)),"") | I20: =IFERROR(INDEX(DataJadwal!$K$2:$K$763,MATCH(LEFT($C$6,2)&"2"&$C20,DataJadwal!$I$2:$I$763,0)),"")
B21: 10:50 - 11:40 | C21: 4 | D21: =IFERROR(INDEX(DataJadwal!$J$2:$J$763,MATCH(LEFT($C$6,2)&"2"&$C21,DataJadwal!$H$2:$H$763,0)),"") | E21: =IFERROR(INDEX(DataJadwal!$F$2:$F$763,MATCH(LEFT($C$6,2)&"2"&$C21,DataJadwal!$H$2:$H$763,0)),"") | F21: =IFERROR(INDEX(DataJadwal!$L$2:$L$763,MATCH(LEFT($C$6,2)&"2"&$C21,DataJadwal!$H$2:$H$763,0)),"") | G21: =IFERROR(INDEX(DataJadwal!$J$2:$J$763,MATCH(LEFT($C$6,2)&"2"&$C21,DataJadwal!$I$2:$I$763,0)),"") | H21: =IFERROR(INDEX(DataJadwal!$F$2:$F$763,MATCH(LEFT($C$6,2)&"2"&$C21,DataJadwal!$I$2:$I$763,0)),"") | I21: =IFERROR(INDEX(DataJadwal!$K$2:$K$763,MATCH(LEFT($C$6,2)&"2"&$C21,DataJadwal!$I$2:$I$763,0)),"")
B22: 12:00 - 12:50 | C22: 5 | D22: =IFERROR(INDEX(DataJadwal!$J$2:$J$763,MATCH(LEFT($C$6,2)&"2"&$C22,DataJadwal!$H$2:$H$763,0)),"") | E22: =IFERROR(INDEX(DataJadwal!$F$2:$F$763,MATCH(LEFT($C$6,2)&"2"&$C22,DataJadwal!$H$2:$H$763,0)),"") | F22: =IFERROR(INDEX(DataJadwal!$L$2:$L$763,MATCH(LEFT($C$6,2)&"2"&$C22,DataJadwal!$H$2:$H$763,0)),"") | G22: =IFERROR(INDEX(DataJadwal!$J$2:$J$763,MATCH(LEFT($C$6,2)&"2"&$C22,DataJadwal!$I$2:$I$763,0)),"") | H22: =IFERROR(INDEX(DataJadwal!$F$2:$F$763,MATCH(LEFT($C$6,2)&"2"&$C22,DataJadwal!$I$2:$I$763,0)),"") | I22: =IFERROR(INDEX(DataJadwal!$K$2:$K$763,MATCH(LEFT($C$6,2)&"2"&$C22,DataJadwal!$I$2:$I$763,0)),"")
B23: 12:50 - 13:40 | C23: 6 | D23: =IFERROR(INDEX(DataJadwal!$J$2:$J$763,MATCH(LEFT($C$6,2)&"2"&$C23,DataJadwal!$H$2:$H$763,0)),"") | E23: =IFERROR(INDEX(DataJadwal!$F$2:$F$763,MATCH(LEFT($C$6,2)&"2"&$C23,DataJadwal!$H$2:$H$763,0)),"") | F23: =IFERROR(INDEX(DataJadwal!$L$2:$L$763,MATCH(LEFT($C$6,2)&"2"&$C23,DataJadwal!$H$2:$H$763,0)),"") | G23: =IFERROR(INDEX(DataJadwal!$J$2:$J$763,MATCH(LEFT($C$6,2)&"2"&$C23,DataJadwal!$I$2:$I$763,0)),"") | H23: =IFERROR(INDEX(DataJadwal!$F$2:$F$763,MATCH(LEFT($C$6,2)&"2"&$C23,DataJadwal!$I$2:$I$763,0)),"") | I23: =IFERROR(INDEX(DataJadwal!$K$2:$K$763,MATCH(LEFT($C$6,2)&"2"&$C23,DataJadwal!$I$2:$I$763,0)),"")
B24: 13:50 - 14:40 | C24: 7 | D24: =IFERROR(INDEX(DataJadwal!$J$2:$J$763,MATCH(LEFT($C$6,2)&"2"&$C24,DataJadwal!$H$2:$H$763,0)),"") | E24: =IFERROR(INDEX(DataJadwal!$F$2:$F$763,MATCH(LEFT($C$6,2)&"2"&$C24,DataJadwal!$H$2:$H$763,0)),"") | F24: =IFERROR(INDEX(DataJadwal!$L$2:$L$763,MATCH(LEFT($C$6,2)&"2"&$C24,DataJadwal!$H$2:$H$763,0)),"") | G24: =IFERROR(INDEX(DataJadwal!$J$2:$J$763,MATCH(LEFT($C$6,2)&"2"&$C24,DataJadwal!$I$2:$I$763,0)),"") | H24: =IFERROR(INDEX(DataJadwal!$F$2:$F$763,MATCH(LEFT($C$6,2)&"2"&$C24,DataJadwal!$I$2:$I$763,0)),"") | I24: =IFERROR(INDEX(DataJadwal!$K$2:$K$763,MATCH(LEFT($C$6,2)&"2"&$C24,DataJadwal!$I$2:$I$763,0)),"")
B25: 14:40 - 15:30 | C25: 8 | D25: =IFERROR(INDEX(DataJadwal!$J$2:$J$763,MATCH(LEFT($C$6,2)&"2"&$C25,DataJadwal!$H$2:$H$763,0)),"") | E25: =IFERROR(INDEX(DataJadwal!$F$2:$F$763,MATCH(LEFT($C$6,2)&"2"&$C25,DataJadwal!$H$2:$H$763,0)),"") | F25: =IFERROR(INDEX(DataJadwal!$L$2:$L$763,MATCH(LEFT($C$6,2)&"2"&$C25,DataJadwal!$H$2:$H$763,0)),"") | G25: =IFERROR(INDEX(DataJadwal!$J$2:$J$763,MATCH(LEFT($C$6,2)&"2"&$C25,DataJadwal!$I$2:$I$763,0)),"") | H25: =IFERROR(INDEX(DataJadwal!$F$2:$F$763,MATCH(LEFT($C$6,2)&"2"&$C25,DataJadwal!$I$2:$I$763,0)),"") | I25: =IFERROR(INDEX(DataJadwal!$K$2:$K$763,MATCH(LEFT($C$6,2)&"2"&$C25,DataJadwal!$I$2:$I$763,0)),"")
A26: RABU | B26: 08:00 - 08:50 | C26: 1 | D26: =IFERROR(INDEX(DataJadwal!$J$2:$J$763,MATCH(LEFT($C$6,2)&"3"&$C26,DataJadwal!$H$2:$H$763,0)),"") | E26: =IFERROR(INDEX(DataJadwal!$F$2:$F$763,MATCH(LEFT($C$6,2)&"3"&$C26,DataJadwal!$H$2:$H$763,0)),"") | F26: =IFERROR(INDEX(DataJadwal!$L$2:$L$763,MATCH(LEFT($C$6,2)&"3"&$C26,DataJadwal!$H$2:$H$763,0)),"") | G26: =IFERROR(INDEX(DataJadwal!$J$2:$J$763,MATCH(LEFT($C$6,2)&"3"&$C26,DataJadwal!$I$2:$I$763,0)),"") | H26: =IFERROR(INDEX(DataJadwal!$F$2:$F$763,MATCH(LEFT($C$6,2)&"3"&$C26,DataJadwal!$I$2:$I$763,0)),"") | I26: =IFERROR(INDEX(DataJadwal!$K$2:$K$763,MATCH(LEFT($C$6,2)&"3"&$C26,DataJadwal!$I$2:$I$763,0)),"")
B27: 08:50 - 09:40 | C27: 2 | D27: =IFERROR(INDEX(DataJadwal!$J$2:$J$763,MATCH(LEFT($C$6,2)&"3"&$C27,DataJadwal!$H$2:$H$763,0)),"") | E27: =IFERROR(INDEX(DataJadwal!$F$2:$F$763,MATCH(LEFT($C$6,2)&"3"&$C27,DataJadwal!$H$2:$H$763,0)),"") | F27: =IFERROR(INDEX(DataJadwal!$L$2:$L$763,MATCH(LEFT($C$6,2)&"3"&$C27,DataJadwal!$H$2:$H$763,0)),"") | G27: =IFERROR(INDEX(DataJadwal!$J$2:$J$763,MATCH(LEFT($C$6,2)&"3"&$C27,DataJadwal!$I$2:$I$763,0)),"") | H27: =IFERROR(INDEX(DataJadwal!$F$2:$F$763,MATCH(LEFT($C$6,2)&"3"&$C27,DataJadwal!$I$2:$I$763,0)),"") | I27: =IFERROR(INDEX(DataJadwal!$K$2:$K$763,MATCH(LEFT($C$6,2)&"3"&$C27,DataJadwal!$I$2:$I$763,0)),"")
B28: 10:00 - 10:50 | C28: 3 | D28: =IFERROR(INDEX(DataJadwal!$J$2:$J$763,MATCH(LEFT($C$6,2)&"3"&$C28,DataJadwal!$H$2:$H$763,0)),"") | E28: =IFERROR(INDEX(DataJadwal!$F$2:$F$763,MATCH(LEFT($C$6,2)&"3"&$C28,DataJadwal!$H$2:$H$763,0)),"") | F28: =IFERROR(INDEX(DataJadwal!$L$2:$L$763,MATCH(LEFT($C$6,2)&"3"&$C28,DataJadwal!$H$2:$H$763,0)),"") | G28: =IFERROR(INDEX(DataJadwal!$J$2:$J$763,MATCH(LEFT($C$6,2)&"3"&$C28,DataJadwal!$I$2:$I$763,0)),"") | H28: =IFERROR(INDEX(DataJadwal!$F$2:$F$763,MATCH(LEFT($C$6,2)&"3"&$C28,DataJadwal!$I$2:$I$763,0)),"") | I28: =IFERROR(INDEX(DataJadwal!$K$2:$K$763,MATCH(LEFT($C$6,2)&"3"&$C28,DataJadwal!$I$2:$I$763,0)),"")
B29: 10:50 - 11:40 | C29: 4 | D29: =IFERROR(INDEX(DataJadwal!$J$2:$J$763,MATCH(LEFT($C$6,2)&"3"&$C29,DataJadwal!$H$2:$H$763,0)),"") | E29: =IFERROR(INDEX(DataJadwal!$F$2:$F$763,MATCH(LEFT($C$6,2)&"3"&$C29,DataJadwal!$H$2:$H$763,0)),"") | F29: =IFERROR(INDEX(DataJadwal!$L$2:$L$763,MATCH(LEFT($C$6,2)&"3"&$C29,DataJadwal!$H$2:$H$763,0)),"") | G29: =IFERROR(INDEX(DataJadwal!$J$2:$J$763,MATCH(LEFT($C$6,2)&"3"&$C29,DataJadwal!$I$2:$I$763,0)),"") | H29: =IFERROR(INDEX(DataJadwal!$F$2:$F$763,MATCH(LEFT($C$6,2)&"3"&$C29,DataJadwal!$I$2:$I$763,0)),"") | I29: =IFERROR(INDEX(DataJadwal!$K$2:$K$763,MATCH(LEFT($C$6,2)&"3"&$C29,DataJadwal!$I$2:$I$763,0)),"")
B30: 12:00 - 12:50 | C30: 5 | D30: =IFERROR(INDEX(DataJadwal!$J$2:$J$763,MATCH(LEFT($C$6,2)&"3"&$C30,DataJadwal!$H$2:$H$763,0)),"") | E30: =IFERROR(INDEX(DataJadwal!$F$2:$F$763,MATCH(LEFT($C$6,2)&"3"&$C30,DataJadwal!$H$2:$H$763,0)),"") | F30: =IFERROR(INDEX(DataJadwal!$L$2:$L$763,MATCH(LEFT($C$6,2)&"3"&$C30,DataJadwal!$H$2:$H$763,0)),"") | G30: =IFERROR(INDEX(DataJadwal!$J$2:$J$763,MATCH(LEFT($C$6,2)&"3"&$C30,DataJadwal!$I$2:$I$763,0)),"") | H30: =IFERROR(INDEX(DataJadwal!$F$2:$F$763,MATCH(LEFT($C$6,2)&"3"&$C30,DataJadwal!$I$2:$I$763,0)),"") | I30: =IFERROR(INDEX(DataJadwal!$K$2:$K$763,MATCH(LEFT($C$6,2)&"3"&$C30,DataJadwal!$I$2:$I$763,0)),"")
B31: 12:50 - 13:40 | C31: 6 | D31: =IFERROR(INDEX(DataJadwal!$J$2:$J$763,MATCH(LEFT($C$6,2)&"3"&$C31,DataJadwal!$H$2:$H$763,0)),"") | E31: =IFERROR(INDEX(DataJadwal!$F$2:$F$763,MATCH(LEFT($C$6,2)&"3"&$C31,DataJadwal!$H$2:$H$763,0)),"") | F31: =IFERROR(INDEX(DataJadwal!$L$2:$L$763,MATCH(LEFT($C$6,2)&"3"&$C31,DataJadwal!$H$2:$H$763,0)),"") | G31: =IFERROR(INDEX(DataJadwal!$J$2:$J$763,MATCH(LEFT($C$6,2)&"3"&$C31,DataJadwal!$I$2:$I$763,0)),"") | H31: =IFERROR(INDEX(DataJadwal!$F$2:$F$763,MATCH(LEFT($C$6,2)&"3"&$C31,DataJadwal!$I$2:$I$763,0)),"") | I31: =IFERROR(INDEX(DataJadwal!$K$2:$K$763,MATCH(LEFT($C$6,2)&"3"&$C31,DataJadwal!$I$2:$I$763,0)),"")
B32: 13:50 - 14:40 | C32: 7 | D32: =IFERROR(INDEX(DataJadwal!$J$2:$J$763,MATCH(LEFT($C$6,2)&"3"&$C32,DataJadwal!$H$2:$H$763,0)),"") | E32: =IFERROR(INDEX(DataJadwal!$F$2:$F$763,MATCH(LEFT($C$6,2)&"3"&$C32,DataJadwal!$H$2:$H$763,0)),"") | F32: =IFERROR(INDEX(DataJadwal!$L$2:$L$763,MATCH(LEFT($C$6,2)&"3"&$C32,DataJadwal!$H$2:$H$763,0)),"") | G32: =IFERROR(INDEX(DataJadwal!$J$2:$J$763,MATCH(LEFT($C$6,2)&"3"&$C32,DataJadwal!$I$2:$I$763,0)),"") | H32: =IFERROR(INDEX(DataJadwal!$F$2:$F$763,MATCH(LEFT($C$6,2)&"3"&$C32,DataJadwal!$I$2:$I$763,0)),"") | I32: =IFERROR(INDEX(DataJadwal!$K$2:$K$763,MATCH(LEFT($C$6,2)&"3"&$C32,DataJadwal!$I$2:$I$763,0)),"")
B33: 14:40 - 15:30 | C33: 8 | D33: =IFERROR(INDEX(DataJadwal!$J$2:$J$763,MATCH(LEFT($C$6,2)&"3"&$C33,DataJadwal!$H$2:$H$763,0)),"") | E33: =IFERROR(INDEX(DataJadwal!$F$2:$F$763,MATCH(LEFT($C$6,2)&"3"&$C33,DataJadwal!$H$2:$H$763,0)),"") | F33: =IFERROR(INDEX(DataJadwal!$L$2:$L$763,MATCH(LEFT($C$6,2)&"3"&$C33,DataJadwal!$H$2:$H$763,0)),"") | G33: =IFERROR(INDEX(DataJadwal!$J$2:$J$763,MATCH(LEFT($C$6,2)&"3"&$C33,DataJadwal!$I$2:$I$763,0)),"") | H33: =IFERROR(INDEX(DataJadwal!$F$2:$F$763,MATCH(LEFT($C$6,2)&"3"&$C33,DataJadwal!$I$2:$I$763,0)),"") | I33: =IFERROR(INDEX(DataJadwal!$K$2:$K$763,MATCH(LEFT($C$6,2)&"3"&$C33,DataJadwal!$I$2:$I$763,0)),"")
A34: KAMIS | B34: 08:00 - 08:50 | C34: 1 | D34: =IFERROR(INDEX(DataJadwal!$J$2:$J$763,MATCH(LEFT($C$6,2)&"4"&$C34,DataJadwal!$H$2:$H$763,0)),"") | E34: =IFERROR(INDEX(DataJadwal!$F$2:$F$763,MATCH(LEFT($C$6,2)&"4"&$C34,DataJadwal!$H$2:$H$763,0)),"") | F34: =IFERROR(INDEX(DataJadwal!$L$2:$L$763,MATCH(LEFT($C$6,2)&"4"&$C34,DataJadwal!$H$2:$H$763,0)),"") | G34: =IFERROR(INDEX(DataJadwal!$J$2:$J$763,MATCH(LEFT($C$6,2)&"4"&$C34,DataJadwal!$I$2:$I$763,0)),"") | H34: =IFERROR(INDEX(DataJadwal!$F$2:$F$763,MATCH(LEFT($C$6,2)&"4"&$C34,DataJadwal!$I$2:$I$763,0)),"") | I34: =IFERROR(INDEX(DataJadwal!$K$2:$K$763,MATCH(LEFT($C$6,2)&"4"&$C34,DataJadwal!$I$2:$I$763,0)),"")
B35: 08:50 - 09:40 | C35: 2 | D35: =IFERROR(INDEX(DataJadwal!$J$2:$J$763,MATCH(LEFT($C$6,2)&"4"&$C35,DataJadwal!$H$2:$H$763,0)),"") | E35: =IFERROR(INDEX(DataJadwal!$F$2:$F$763,MATCH(LEFT($C$6,2)&"4"&$C35,DataJadwal!$H$2:$H$763,0)),"") | F35: =IFERROR(INDEX(DataJadwal!$L$2:$L$763,MATCH(LEFT($C$6,2)&"4"&$C35,DataJadwal!$H$2:$H$763,0)),"") | G35: =IFERROR(INDEX(DataJadwal!$J$2:$J$763,MATCH(LEFT($C$6,2)&"4"&$C35,DataJadwal!$I$2:$I$763,0)),"") | H35: =IFERROR(INDEX(DataJadwal!$F$2:$F$763,MATCH(LEFT($C$6,2)&"4"&$C35,DataJadwal!$I$2:$I$763,0)),"") | I35: =IFERROR(INDEX(DataJadwal!$K$2:$K$763,MATCH(LEFT($C$6,2)&"4"&$C35,DataJadwal!$I$2:$I$763,0)),"")
B36: 10:00 - 10:50 | C36: 3 | D36: =IFERROR(INDEX(DataJadwal!$J$2:$J$763,MATCH(LEFT($C$6,2)&"4"&$C36,DataJadwal!$H$2:$H$763,0)),"") | E36: =IFERROR(INDEX(DataJadwal!$F$2:$F$763,MATCH(LEFT($C$6,2)&"4"&$C36,DataJadwal!$H$2:$H$763,0)),"") | F36: =IFERROR(INDEX(DataJadwal!$L$2:$L$763,MATCH(LEFT($C$6,2)&"4"&$C36,DataJadwal!$H$2:$H$763,0)),"") | G36: =IFERROR(INDEX(DataJadwal!$J$2:$J$763,MATCH(LEFT($C$6,2)&"4"&$C36,DataJadwal!$I$2:$I$763,0)),"") | H36: =IFERROR(INDEX(DataJadwal!$F$2:$F$763,MATCH(LEFT($C$6,2)&"4"&$C36,DataJadwal!$I$2:$I$763,0)),"") | I36: =IFERROR(INDEX(DataJadwal!$K$2:$K$763,MATCH(LEFT($C$6,2)&"4"&$C36,DataJadwal!$I$2:$I$763,0)),"")
B37: 10:50 - 11:40 | C37: 4 | D37: =IFERROR(INDEX(DataJadwal!$J$2:$J$763,MATCH(LEFT($C$6,2)&"4"&$C37,DataJadwal!$H$2:$H$763,0)),"") | E37: =IFERROR(INDEX(DataJadwal!$F$2:$F$763,MATCH(LEFT($C$6,2)&"4"&$C37,DataJadwal!$H$2:$H$763,0)),"") | F37: =IFERROR(INDEX(DataJadwal!$L$2:$L$763,MATCH(LEFT($C$6,2)&"4"&$C37,DataJadwal!$H$2:$H$763,0)),"") | G37: =IFERROR(INDEX(DataJadwal!$J$2:$J$763,MATCH(LEFT($C$6,2)&"4"&$C37,DataJadwal!$I$2:$I$763,0)),"") | H37: =IFERROR(INDEX(DataJadwal!$F$2:$F$763,MATCH(LEFT($C$6,2)&"4"&$C37,DataJadwal!$I$2:$I$763,0)),"") | I37: =IFERROR(INDEX(DataJadwal!$K$2:$K$763,MATCH(LEFT($C$6,2)&"4"&$C37,DataJadwal!$I$2:$I$763,0)),"")
B38: 12:00 - 12:50 | C38: 5 | D38: =IFERROR(INDEX(DataJadwal!$J$2:$J$763,MATCH(LEFT($C$6,2)&"4"&$C38,DataJadwal!$H$2:$H$763,0)),"") -> MHR41103 - Sistem Manajemen Kesehatan, Keselamatan, Kerja [2 SKS] | E38: =IFERROR(INDEX(DataJadwal!$F$2:$F$763,MATCH(LEFT($C$6,2)&"4"&$C38,DataJadwal!$H$2:$H$763,0)),"") -> D3 TS-4A | F38: =IFERROR(INDEX(DataJadwal!$L$2:$L$763,MATCH(LEFT($C$6,2)&"4"&$C38,DataJadwal!$H$2:$H$763,0)),"") | G38: =IFERROR(INDEX(DataJadwal!$J$2:$J$763,MATCH(LEFT($C$6,2)&"4"&$C38,DataJadwal!$I$2:$I$763,0)),"") | H38: =IFERROR(INDEX(DataJadwal!$F$2:$F$763,MATCH(LEFT($C$6,2)&"4"&$C38,DataJadwal!$I$2:$I$763,0)),"") | I38: =IFERROR(INDEX(DataJadwal!$K$2:$K$763,MATCH(LEFT($C$6,2)&"4"&$C38,DataJadwal!$I$2:$I$763,0)),"")
B39: 12:50 - 13:40 | C39: 6 | D39: =IFERROR(INDEX(DataJadwal!$J$2:$J$763,MATCH(LEFT($C$6,2)&"4"&$C39,DataJadwal!$H$2:$H$763,0)),"") -> MHR41103 - Sistem Manajemen Kesehatan, Keselamatan, Kerja [2 SKS] | E39: =IFERROR(INDEX(DataJadwal!$F$2:$F$763,MATCH(LEFT($C$6,2)&"4"&$C39,DataJadwal!$H$2:$H$763,0)),"") -> D3 TS-4A | F39: =IFERROR(INDEX(DataJadwal!$L$2:$L$763,MATCH(LEFT($C$6,2)&"4"&$C39,DataJadwal!$H$2:$H$763,0)),"") | G39: =IFERROR(INDEX(DataJadwal!$J$2:$J$763,MATCH(LEFT($C$6,2)&"4"&$C39,DataJadwal!$I$2:$I$763,0)),"") | H39: =IFERROR(INDEX(DataJadwal!$F$2:$F$763,MATCH(LEFT($C$6,2)&"4"&$C39,DataJadwal!$I$2:$I$763,0)),"") | I39: =IFERROR(INDEX(DataJadwal!$K$2:$K$763,MATCH(LEFT($C$6,2)&"4"&$C39,DataJadwal!$I$2:$I$763,0)),"")
B40: 13:50 - 14:40 | C40: 7 | D40: =IFERROR(INDEX(DataJadwal!$J$2:$J$763,MATCH(LEFT($C$6,2)&"4"&$C40,DataJadwal!$H$2:$H$763,0)),"") -> MHR41103 - Sistem Manajemen Kesehatan, Keselamatan, Kerja [2 SKS] | E40: =IFERROR(INDEX(DataJadwal!$F$2:$F$763,MATCH(LEFT($C$6,2)&"4"&$C40,DataJadwal!$H$2:$H$763,0)),"") -> D3 TS-4B | F40: =IFERROR(INDEX(DataJadwal!$L$2:$L$763,MATCH(LEFT($C$6,2)&"4"&$C40,DataJadwal!$H$2:$H$763,0)),"") | G40: =IFERROR(INDEX(DataJadwal!$J$2:$J$763,MATCH(LEFT($C$6,2)&"4"&$C40,DataJadwal!$I$2:$I$763,0)),"") | H40: =IFERROR(INDEX(DataJadwal!$F$2:$F$763,MATCH(LEFT($C$6,2)&"4"&$C40,DataJadwal!$I$2:$I$763,0)),"") | I40: =IFERROR(INDEX(DataJadwal!$K$2:$K$763,MATCH(LEFT($C$6,2)&"4"&$C40,DataJadwal!$I$2:$I$763,0)),"")
B41: 14:40 - 15:30 | C41: 8 | D41: =IFERROR(INDEX(DataJadwal!$J$2:$J$763,MATCH(LEFT($C$6,2)&"4"&$C41,DataJadwal!$H$2:$H$763,0)),"") -> MHR41103 - Sistem Manajemen Kesehatan, Keselamatan, Kerja [2 SKS] | E41: =IFERROR(INDEX(DataJadwal!$F$2:$F$763,MATCH(LEFT($C$6,2)&"4"&$C41,DataJadwal!$H$2:$H$763,0)),"") -> D3 TS-4B | F41: =IFERROR(INDEX(DataJadwal!$L$2:$L$763,MATCH(LEFT($C$6,2)&"4"&$C41,DataJadwal!$H$2:$H$763,0)),"") | G41: =IFERROR(INDEX(DataJadwal!$J$2:$J$763,MATCH(LEFT($C$6,2)&"4"&$C41,DataJadwal!$I$2:$I$763,0)),"") | H41: =IFERROR(INDEX(DataJadwal!$F$2:$F$763,MATCH(LEFT($C$6,2)&"4"&$C41,DataJadwal!$I$2:$I$763,0)),"") | I41: =IFERROR(INDEX(DataJadwal!$K$2:$K$763,MATCH(LEFT($C$6,2)&"4"&$C41,DataJadwal!$I$2:$I$763,0)),"")
A42: JUMAT | B42: 08:00 - 08:50 | C42: 1 | D42: =IFERROR(INDEX(DataJadwal!$J$2:$J$763,MATCH(LEFT($C$6,2)&"5"&$C42,DataJadwal!$H$2:$H$763,0)),"") | E42: =IFERROR(INDEX(DataJadwal!$F$2:$F$763,MATCH(LEFT($C$6,2)&"5"&$C42,DataJadwal!$H$2:$H$763,0)),"") | F42: =IFERROR(INDEX(DataJadwal!$L$2:$L$763,MATCH(LEFT($C$6,2)&"5"&$C42,DataJadwal!$H$2:$H$763,0)),"") | G42: =IFERROR(INDEX(DataJadwal!$J$2:$J$763,MATCH(LEFT($C$6,2)&"5"&$C42,DataJadwal!$I$2:$I$763,0)),"") | H42: =IFERROR(INDEX(DataJadwal!$F$2:$F$763,MATCH(LEFT($C$6,2)&"5"&$C42,DataJadwal!$I$2:$I$763,0)),"") | I42: =IFERROR(INDEX(DataJadwal!$K$2:$K$763,MATCH(LEFT($C$6,2)&"5"&$C42,DataJadwal!$I$2:$I$763,0)),"")
...

Sheet DataJadwal
A1: Activity Id | B1: Hari | C1: Hari ke- | D1: Jam | E1: Jam ke- | F1: Kelas | G1: KelasHariJam | H1: Dosen1HariJam | I1: Dosen2HariJam | J1: Mata Kuliah | K1: Dosen I | L1: Dosen II | M1: Ruangan | N1: Keterangan
A2: 1 | B2: Jumat | C2: =VLOOKUP(B2,Hari,2,FALSE) -> 5 | D2: 10:50 - 11:40 | E2: =VLOOKUP(D2,Jam,2,FALSE) -> 4 | F2: STr. MPK-2A | G2: =F2&C2&E2 -> STr. MPK-2A54 | H2: =LEFT(K2,2)&$C2&$E2 -> 2854 | I2: =IF(LEFT(L2,2)<>"",LEFT(L2,2)&$C2&$E2,"") | J2: MBB2422302201 - Kewarganegaraan [2 SKS] | K2: 28 - Anak Agung Ngurah Roy Sumardika, S.H., M.H.
A3: 1 | B3: Jumat | C3: =VLOOKUP(B3,Hari,2,FALSE) -> 5 | D3: 12:00 - 12:50 | E3: =VLOOKUP(D3,Jam,2,FALSE) -> 5 | F3: STr. MPK-2A | G3: =F3&C3&E3 -> STr. MPK-2A55 | H3: =LEFT(K3,2)&$C3&$E3 -> 2855 | I3: =IF(LEFT(L3,2)<>"",LEFT(L3,2)&$C3&$E3,"") | J3: MBB2422302201 - Kewarganegaraan [2 SKS] | K3: 28 - Anak Agung Ngurah Roy Sumardika, S.H., M.H.
A4: 1 | B4: Jumat | C4: =VLOOKUP(B4,Hari,2,FALSE) -> 5 | D4: 12:50 - 13:40 | E4: =VLOOKUP(D4,Jam,2,FALSE) -> 6 | F4: STr. MPK-2A | G4: =F4&C4&E4 -> STr. MPK-2A56 | H4: =LEFT(K4,2)&$C4&$E4 -> 2856 | I4: =IF(LEFT(L4,2)<>"",LEFT(L4,2)&$C4&$E4,"") | J4: MBB2422302201 - Kewarganegaraan [2 SKS] | K4: 28 - Anak Agung Ngurah Roy Sumardika, S.H., M.H.
A5: 2 | B5: Kamis | C5: =VLOOKUP(B5,Hari,2,FALSE) -> 4 | D5: 10:00 - 10:50 | E5: =VLOOKUP(D5,Jam,2,FALSE) -> 3 | F5: STr. MPK-2A | G5: =F5&C5&E5 -> STr. MPK-2A43 | H5: =LEFT(K5,2)&$C5&$E5 -> 4043 | I5: =IF(LEFT(L5,2)<>"",LEFT(L5,2)&$C5&$E5,"") | J5: MKDK2422302202 - Fisika Terapan [2 SKS] | K5: 40 - Evin Yudhi Setyono, S.Pd., M.Si,
A6: 2 | B6: Kamis | C6: =VLOOKUP(B6,Hari,2,FALSE) -> 4 | D6: 10:50 - 11:40 | E6: =VLOOKUP(D6,Jam,2,FALSE) -> 4 | F6: STr. MPK-2A | G6: =F6&C6&E6 -> STr. MPK-2A44 | H6: =LEFT(K6,2)&$C6&$E6 -> 4044 | I6: =IF(LEFT(L6,2)<>"",LEFT(L6,2)&$C6&$E6,"") | J6: MKDK2422302202 - Fisika Terapan [2 SKS] | K6: 40 - Evin Yudhi Setyono, S.Pd., M.Si,
A7: 3 | B7: Selasa | C7: =VLOOKUP(B7,Hari,2,FALSE) -> 2 | D7: 10:00 - 10:50 | E7: =VLOOKUP(D7,Jam,2,FALSE) -> 3 | F7: STr. MPK-2A | G7: =F7&C7&E7 -> STr. MPK-2A23 | H7: =LEFT(K7,2)&$C7&$E7 -> 4023 | I7: =IF(LEFT(L7,2)<>"",LEFT(L7,2)&$C7&$E7,"") | J7: MKDK2422302202 - Fisika Terapan [2 SKS] | K7: 40 - Evin Yudhi Setyono, S.Pd., M.Si,
A8: 3 | B8: Selasa | C8: =VLOOKUP(B8,Hari,2,FALSE) -> 2 | D8: 10:50 - 11:40 | E8: =VLOOKUP(D8,Jam,2,FALSE) -> 4 | F8: STr. MPK-2A | G8: =F8&C8&E8 -> STr. MPK-2A24 | H8: =LEFT(K8,2)&$C8&$E8 -> 4024 | I8: =IF(LEFT(L8,2)<>"",LEFT(L8,2)&$C8&$E8,"") | J8: MKDK2422302202 - Fisika Terapan [2 SKS] | K8: 40 - Evin Yudhi Setyono, S.Pd., M.Si,
A9: 4 | B9: Senin | C9: =VLOOKUP(B9,Hari,2,FALSE) -> 1 | D9: 08:50 - 09:40 | E9: =VLOOKUP(D9,Jam,2,FALSE) -> 2 | F9: STr. MPK-2A | G9: =F9&C9&E9 -> STr. MPK-2A12 | H9: =LEFT(K9,2)&$C9&$E9 -> 1212 | I9: =IF(LEFT(L9,2)<>"",LEFT(L9,2)&$C9&$E9,"") | J9: MKK2422302204 - Mekanika Teknik 2 [2 SKS] | K9: 12 - Ir. Ida Bagus Putu Bintana, M.T.
A10: 4 | B10: Senin | C10: =VLOOKUP(B10,Hari,2,FALSE) -> 1 | D10: 10:00 - 10:50 | E10: =VLOOKUP(D10,Jam,2,FALSE) -> 3 | F10: STr. MPK-2A | G10: =F10&C10&E10 -> STr. MPK-2A13 | H10: =LEFT(K10,2)&$C10&$E10 -> 1213 | I10: =IF(LEFT(L10,2)<>"",LEFT(L10,2)&$C10&$E10,"") | J10: MKK2422302204 - Mekanika Teknik 2 [2 SKS] | K10: 12 - Ir. Ida Bagus Putu Bintana, M.T.
A11: 5 | B11: Kamis | C11: =VLOOKUP(B11,Hari,2,FALSE) -> 4 | D11: 08:00 - 08:50 | E11: =VLOOKUP(D11,Jam,2,FALSE) -> 1 | F11: STr. MPK-2A | G11: =F11&C11&E11 -> STr. MPK-2A41 | H11: =LEFT(K11,2)&$C11&$E11 -> 1241 | I11: =IF(LEFT(L11,2)<>"",LEFT(L11,2)&$C11&$E11,"") | J11: MKK2422302204 - Mekanika Teknik 2 [2 SKS] | K11: 12 - Ir. Ida Bagus Putu Bintana, M.T.
A12: 5 | B12: Kamis | C12: =VLOOKUP(B12,Hari,2,FALSE) -> 4 | D12: 08:50 - 09:40 | E12: =VLOOKUP(D12,Jam,2,FALSE) -> 2 | F12: STr. MPK-2A | G12: =F12&C12&E12 -> STr. MPK-2A42 | H12: =LEFT(K12,2)&$C12&$E12 -> 1242 | I12: =IF(LEFT(L12,2)<>"",LEFT(L12,2)&$C12&$E12,"") | J12: MKK2422302204 - Mekanika Teknik 2 [2 SKS] | K12: 12 - Ir. Ida Bagus Putu Bintana, M.T.
A13: 6 | B13: Selasa | C13: =VLOOKUP(B13,Hari,2,FALSE) -> 2 | D13: 12:00 - 12:50 | E13: =VLOOKUP(D13,Jam,2,FALSE) -> 5 | F13: STr. MPK-2A | G13: =F13&C13&E13 -> STr. MPK-2A25 | H13: =LEFT(K13,2)&$C13&$E13 -> 4625 | I13: =IF(LEFT(L13,2)<>"",LEFT(L13,2)&$C13&$E13,"") | J13: MKK2422302205 - Dasar-Dasar Manajemen Konstruksi [2 SKS] | K13: 46 - Ni Putu Indah Yuliana, S.ST.Spl., M.T.
... A39: 18 | B39: Jumat | C39: =VLOOKUP(B39,Hari,2,FALSE) -> 5 | D39: 10:50 - 11:40 | E39: =VLOOKUP(D39,Jam,2,FALSE) -> 4 | F39: STr. MPK-2B | G39: =F39&C39&E39 -> STr. MPK-2B54 | H39: =LEFT(K39,2)&$C39&$E39 -> 1254 | I39: =IF(LEFT(L39,2)<>"",LEFT(L39,2)&$C39&$E39,"") | J39: MKK2422302204 - Mekanika Teknik 2 [2 SKS] | K39: 12 - Ir. Ida Bagus Putu Bintana, M.T.
A40: 19 | B40: Jumat | C40: =VLOOKUP(B40,Hari,2,FALSE) -> 5 | D40: 12:00 - 12:50 | E40: =VLOOKUP(D40,Jam,2,FALSE) -> 5 | F40: STr. MPK-2B | G40: =F40&C40&E40 -> STr. MPK-2B55 | H40: =LEFT(K40,2)&$C40&$E40 -> 4355 | I40: =IF(LEFT(L40,2)<>"",LEFT(L40,2)&$C40&$E40,"") -> 5755 | J40: MKK2422302205 - Dasar-Dasar Manajemen Konstruksi [2 SKS] | K40: 43 - Ni Made Sintya Rani, S.T., M.T. | L40: 57 - Tirtha Damayanti, S.Tr.Spl., M.T.
A41: 19 | B41: Jumat | C41: =VLOOKUP(B41,Hari,2,FALSE) -> 5 | D41: 12:50 - 13:40 | E41: =VLOOKUP(D41,Jam,2,FALSE) -> 6 | F41: STr. MPK-2B | G41: =F41&C41&E41 -> STr. MPK-2B56 | H41: =LEFT(K41,2)&$C41&$E41 -> 4356 | I41: =IF(LEFT(L41,2)<>"",LEFT(L41,2)&$C41&$E41,"") -> 5756 | J41: MKK2422302205 - Dasar-Dasar Manajemen Konstruksi [2 SKS] | K41: 43 - Ni Made Sintya Rani, S.T., M.T. | L41: 57 - Tirtha Damayanti, S.Tr.Spl., M.T.
A42: 20 | B42: Selasa | C42: =VLOOKUP(B42,Hari,2,FALSE) -> 2 | D42: 10:00 - 10:50 | E42: =VLOOKUP(D42,Jam,2,FALSE) -> 3 | F42: STr. MPK-2B | G42: =F42&C42&E42 -> STr. MPK-2B23 | H42: =LEFT(K42,2)&$C42&$E42 -> 4323 | I42: =IF(LEFT(L42,2)<>"",LEFT(L42,2)&$C42&$E42,"") -> 5723 | J42: MKK2422302205 - Dasar-Dasar Manajemen Konstruksi [2 SKS] | K42: 43 - Ni Made Sintya Rani, S.T., M.T. | L42: 57 - Tirtha Damayanti, S.Tr.Spl., M.T.
A43: 20 | B43: Selasa | C43: =VLOOKUP(B43,Hari,2,FALSE) -> 2 | D43: 10:50 - 11:40 | E43: =VLOOKUP(D43,Jam,2,FALSE) -> 4 | F43: STr. MPK-2B | G43: =F43&C43&E43 -> STr. MPK-2B24 | H43: =LEFT(K43,2)&$C43&$E43 -> 4324 | I43: =IF(LEFT(L43,2)<>"",LEFT(L43,2)&$C43&$E43,"") -> 5724 | J43: MKK2422302205 - Dasar-Dasar Manajemen Konstruksi [2 SKS] | K43: 43 - Ni Made Sintya Rani, S.T., M.T. | L43: 57 - Tirtha Damayanti, S.Tr.Spl., M.T.
A44: 21 | B44: Selasa | C44: =VLOOKUP(B44,Hari,2,FALSE) -> 2 | D44: 13:50 - 14:40 | E44: =VLOOKUP(D44,Jam,2,FALSE) -> 7 | F44: STr. MPK-2B | G44: =F44&C44&E44 -> STr. MPK-2B27 | H44: =LEFT(K44,2)&$C44&$E44 -> 3827 | I44: =IF(LEFT(L44,2)<>"",LEFT(L44,2)&$C44&$E44,"") | J44: MKB2422302205 - Aplikasi Komputer Rancang Bangun [2 SKS] | K44: 38 - Wayan Sri Kristinayanti, S.T.,M.T.
A45: 21 | B45: Selasa | C45: =VLOOKUP(B45,Hari,2,FALSE) -> 2 | D45: 14:40 - 15:30 | E45: =VLOOKUP(D45,Jam,2,FALSE) -> 8 | F45: STr. MPK-2B | G45: =F45&C45&E45 -> STr. MPK-2B28 | H45: =LEFT(K45,2)&$C45&$E45 -> 3828 | I45: =IF(LEFT(L45,2)<>"",LEFT(L45,2)&$C45&$E45,"") | J45: MKB2422302205 - Aplikasi Komputer Rancang Bangun [2 SKS] | K45: 38 - Wayan Sri Kristinayanti, S.T.,M.T.
A46: 22 | B46: Kamis | C46: =VLOOKUP(B46,Hari,2,FALSE) -> 4 | D46: 08:50 - 09:40 | E46: =VLOOKUP(D46,Jam,2,FALSE) -> 2 | F46: STr. MPK-2B | G46: =F46&C46&E46 -> STr. MPK-2B42 | H46: =LEFT(K46,2)&$C46&$E46 -> 3842 | I46: =IF(LEFT(L46,2)<>"",LEFT(L46,2)&$C46&$E46,"") | J46: MKB2422302205 - Aplikasi Komputer Rancang Bangun [2 SKS] | K46: 38 - Wayan Sri Kristinayanti, S.T.,M.T.
A47: 22 | B47: Kamis | C47: =VLOOKUP(B47,Hari,2,FALSE) -> 4 | D47: 10:00 - 10:50 | E47: =VLOOKUP(D47,Jam,2,FALSE) -> 3 | F47: STr. MPK-2B | G47: =F47&C47&E47 -> STr. MPK-2B43 | H47: =LEFT(K47,2)&$C47&$E47 -> 3843 | I47: =IF(LEFT(L47,2)<>"",LEFT(L47,2)&$C47&$E47,"") | J47: MKB2422302205 - Aplikasi Komputer Rancang Bangun [2 SKS] | K47: 38 - Wayan Sri Kristinayanti, S.T.,M.T.
A48: 23 | B48: Selasa | C48: =VLOOKUP(B48,Hari,2,FALSE) -> 2 | D48: 12:00 - 12:50 | E48: =VLOOKUP(D48,Jam,2,FALSE) -> 5 | F48: STr. MPK-2B | G48: =F48&C48&E48 -> STr. MPK-2B25 | H48: =LEFT(K48,2)&$C48&$E48 -> 1325 | I48: =IF(LEFT(L48,2)<>"",LEFT(L48,2)&$C48&$E48,"") | J48: MKK2422302206 - Mekanika Tanah 1 [2 SKS] | K48: 13 - Ir. I Wayan Arya, M.T.
A49: 23 | B49: Selasa | C49: =VLOOKUP(B49,Hari,2,FALSE) -> 2 | D49: 12:50 - 13:40 | E49: =VLOOKUP(D49,Jam,2,FALSE) -> 6 | F49: STr. MPK-2B | G49: =F49&C49&E49 -> STr. MPK-2B26 | H49: =LEFT(K49,2)&$C49&$E49 -> 1326 | I49: =IF(LEFT(L49,2)<>"",LEFT(L49,2)&$C49&$E49,"") | J49: MKK2422302206 - Mekanika Tanah 1 [2 SKS] | K49: 13 - Ir. I Wayan Arya, M.T.
A50: 24 | B50: Senin | C50: =VLOOKUP(B50,Hari,2,FALSE) -> 1 | D50: 13:50 - 14:40 | E50: =VLOOKUP(D50,Jam,2,FALSE) -> 7 | F50: STr. MPK-2B | G50: =F50&C50&E50 -> STr. MPK-2B17 | H50: =LEFT(K50,2)&$C50&$E50 -> 1317 | I50: =IF(LEFT(L50,2)<>"",LEFT(L50,2)&$C50&$E50,"") | J50: MKK2422302206 - Mekanika Tanah 1 [2 SKS] | K50: 13 - Ir. I Wayan Arya, M.T.
A51: 24 | B51: Senin | C51: =VLOOKUP(B51,Hari,2,FALSE) -> 1 | D51: 14:40 - 15:30 | E51: =VLOOKUP(D51,Jam,2,FALSE) -> 8 | F51: STr. MPK-2B | G51: =F51&C51&E51 -> STr. MPK-2B18 | H51: =LEFT(K51,2)&$C51&$E51 -> 1318 | I51: =IF(LEFT(L51,2)<>"",LEFT(L51,2)&$C51&$E51,"") | J51: MKK2422302206 - Mekanika Tanah 1 [2 SKS] | K51: 13 - Ir. I Wayan Arya, M.T.
A52: 25 | B52: Senin | C52: =VLOOKUP(B52,Hari,2,FALSE) -> 1 | D52: 10:00 - 10:50 | E52: =VLOOKUP(D52,Jam,2,FALSE) -> 3 | F52: STr. MPK-2B | G52: =F52&C52&E52 -> STr. MPK-2B13 | H52: =LEFT(K52,2)&$C52&$E52 -> 2413 | I52: =IF(LEFT(L52,2)<>"",LEFT(L52,2)&$C52&$E52,"") | J52: MKK2422302207 - Hidrologi [2 SKS] | K52: 24 - Dr. I Gst. Lanang Made Parwita, S.T., M.T.
A53: 25 | B53: Senin | C53: =VLOOKUP(B53,Hari,2,FALSE) -> 1 | D53: 10:50 - 11:40 | E53: =VLOOKUP(D53,Jam,2,FALSE) -> 4 | F53: STr. MPK-2B | G53: =F53&C53&E53 -> STr. MPK-2B14 | H53: =LEFT(K53,2)&$C53&$E53 -> 2414 | I53: =IF(LEFT(L53,2)<>"",LEFT(L53,2)&$C53&$E53,"") | J53: MKK2422302207 - Hidrologi [2 SKS] | K53: 24 - Dr. I Gst. Lanang Made Parwita, S.T., M.T.
A54: 26 | B54: Rabu | C54: =VLOOKUP(B54,Hari,2,FALSE) -> 3 | D54: 13:50 - 14:40 | E54: =VLOOKUP(D54,Jam,2,FALSE) -> 7 | F54: STr. MPK-2B | G54: =F54&C54&E54 -> STr. MPK-2B37 | H54: =LEFT(K54,2)&$C54&$E54 -> 2437 | I54: =IF(LEFT(L54,2)<>"",LEFT(L54,2)&$C54&$E54,"") | J54: MKK2422302207 - Hidrologi [2 SKS] | K54: 24 - Dr. I Gst. Lanang Made Parwita, S.T., M.T.
A55: 26 | B55: Rabu | C55: =VLOOKUP(B55,Hari,2,FALSE) -> 3 | D55: 14:40 - 15:30 | E55: =VLOOKUP(D55,Jam,2,FALSE) -> 8 | F55: STr. MPK-2B | G55: =F55&C55&E55 -> STr. MPK-2B38 | H55: =LEFT(K55,2)&$C55&$E55 -> 2438 | I55: =IF(LEFT(L55,2)<>"",LEFT(L55,2)&$C55&$E55,"") | J55: MKK2422302207 - Hidrologi [2 SKS] | K55: 24 - Dr. I Gst. Lanang Made Parwita, S.T., M.T.
... A66: 31 | B66: Jumat | C66: =VLOOKUP(B66,Hari,2,FALSE) -> 5 | D66: 12:50 - 13:40 | E66: =VLOOKUP(D66,Jam,2,FALSE) -> 6 | F66: STr. MPK-2C | G66: =F66&C66&E66 -> STr. MPK-2C56 | H66: =LEFT(K66,2)&$C66&$E66 -> 1256 | I66: =IF(LEFT(L66,2)<>"",LEFT(L66,2)&$C66&$E66,"") | J66: MKK2422302204 - Mekanika Teknik 2 [2 SKS] | K66: 12 - Ir. Ida Bagus Putu Bintana, M.T.
A67: 32 | B67: Jumat | C67: =VLOOKUP(B67,Hari,2,FALSE) -> 5 | D67: 10:00 - 10:50 | E67: =VLOOKUP(D67,Jam,2,FALSE) -> 3 | F67: STr. MPK-2C | G67: =F67&C67&E67 -> STr. MPK-2C53 | H67: =LEFT(K67,2)&$C67&$E67 -> 4353 | I67: =IF(LEFT(L67,2)<>"",LEFT(L67,2)&$C67&$E67,"") -> 5753 | J67: MKK2422302205 - Dasar-Dasar Manajemen Konstruksi [2 SKS] | K67: 43 - Ni Made Sintya Rani, S.T., M.T. | L67: 57 - Tirtha Damayanti, S.Tr.Spl., M.T.
A68: 32 | B68: Jumat | C68: =VLOOKUP(B68,Hari,2,FALSE) -> 5 | D68: 10:50 - 11:40 | E68: =VLOOKUP(D68,Jam,2,FALSE) -> 4 | F68: STr. MPK-2C | G68: =F68&C68&E68 -> STr. MPK-2C54 | H68: =LEFT(K68,2)&$C68&$E68 -> 4354 | I68: =IF(LEFT(L68,2)<>"",LEFT(L68,2)&$C68&$E68,"") -> 5754 | J68: MKK2422302205 - Dasar-Dasar Manajemen Konstruksi [2 SKS] | K68: 43 - Ni Made Sintya Rani, S.T., M.T. | L68: 57 - Tirtha Damayanti, S.Tr.Spl., M.T.
A69: 33 | B69: Kamis | C69: =VLOOKUP(B69,Hari,2,FALSE) -> 4 | D69: 12:50 - 13:40 | E69: =VLOOKUP(D69,Jam,2,FALSE) -> 6 | F69: STr. MPK-2C | G69: =F69&C69&E69 -> STr. MPK-2C46 | H69: =LEFT(K69,2)&$C69&$E69 -> 4346 | I69: =IF(LEFT(L69,2)<>"",LEFT(L69,2)&$C69&$E69,"") -> 5746 | J69: MKK2422302205 - Dasar-Dasar Manajemen Konstruksi [2 SKS] | K69: 43 - Ni Made Sintya Rani, S.T., M.T. | L69: 57 - Tirtha Damayanti, S.Tr.Spl., M.T.
A70: 33 | B70: Kamis | C70: =VLOOKUP(B70,Hari,2,FALSE) -> 4 | D70: 13:50 - 14:40 | E70: =VLOOKUP(D70,Jam,2,FALSE) -> 7 | F70: STr. MPK-2C | G70: =F70&C70&E70 -> STr. MPK-2C47 | H70: =LEFT(K70,2)&$C70&$E70 -> 4347 | I70: =IF(LEFT(L70,2)<>"",LEFT(L70,2)&$C70&$E70,"") -> 5747 | J70: MKK2422302205 - Dasar-Dasar Manajemen Konstruksi [2 SKS] | K70: 43 - Ni Made Sintya Rani, S.T., M.T. | L70: 57 - Tirtha Damayanti, S.Tr.Spl., M.T.
A71: 34 | B71: Rabu | C71: =VLOOKUP(B71,Hari,2,FALSE) -> 3 | D71: 10:00 - 10:50 | E71: =VLOOKUP(D71,Jam,2,FALSE) -> 3 | F71: STr. MPK-2C | G71: =F71&C71&E71 -> STr. MPK-2C33 | H71: =LEFT(K71,2)&$C71&$E71 -> 3833 | I71: =IF(LEFT(L71,2)<>"",LEFT(L71,2)&$C71&$E71,"") | J71: MKB2422302205 - Aplikasi Komputer Rancang Bangun [2 SKS] | K71: 38 - Wayan Sri Kristinayanti, S.T.,M.T.
A72: 34 | B72: Rabu | C72: =VLOOKUP(B72,Hari,2,FALSE) -> 3 | D72: 10:50 - 11:40 | E72: =VLOOKUP(D72,Jam,2,FALSE) -> 4 | F72: STr. MPK-2C | G72: =F72&C72&E72 -> STr. MPK-2C34 | H72: =LEFT(K72,2)&$C72&$E72 -> 3834 | I72: =IF(LEFT(L72,2)<>"",LEFT(L72,2)&$C72&$E72,"") | J72: MKB2422302205 - Aplikasi Komputer Rancang Bangun [2 SKS] | K72: 38 - Wayan Sri Kristinayanti, S.T.,M.T.
A73: 35 | B73: Selasa | C73: =VLOOKUP(B73,Hari,2,FALSE) -> 2 | D73: 08:50 - 09:40 | E73: =VLOOKUP(D73,Jam,2,FALSE) -> 2 | F73: STr. MPK-2C | G73: =F73&C73&E73 -> STr. MPK-2C22 | H73: =LEFT(K73,2)&$C73&$E73 -> 3822 | I73: =IF(LEFT(L73,2)<>"",LEFT(L73,2)&$C73&$E73,"") | J73: MKB2422302205 - Aplikasi Komputer Rancang Bangun [2 SKS] | K73: 38 - Wayan Sri Kristinayanti, S.T.,M.T.
A74: 35 | B74: Selasa | C74: =VLOOKUP(B74,Hari,2,FALSE) -> 2 | D74: 10:00 - 10:50 | E74: =VLOOKUP(D74,Jam,2,FALSE) -> 3 | F74: STr. MPK-2C | G74: =F74&C74&E74 -> STr. MPK-2C23 | H74: =LEFT(K74,2)&$C74&$E74 -> 3823 | I74: =IF(LEFT(L74,2)<>"",LEFT(L74,2)&$C74&$E74,"") | J74: MKB2422302205 - Aplikasi Komputer Rancang Bangun [2 SKS] | K74: 38 - Wayan Sri Kristinayanti, S.T.,M.T.
A75: 36 | B75: Senin | C75: =VLOOKUP(B75,Hari,2,FALSE) -> 1 | D75: 12:00 - 12:50 | E75: =VLOOKUP(D75,Jam,2,FALSE) -> 5 | F75: STr. MPK-2C | G75: =F75&C75&E75 -> STr. MPK-2C15 | H75: =LEFT(K75,2)&$C75&$E75 -> 0615 | I75: =IF(LEFT(L75,2)<>"",LEFT(L75,2)&$C75&$E75,"") | J75: MKK2422302206 - Mekanika Tanah 1 [2 SKS] | K75: 06 - Ir. I Wayan Wiraga, M.T.
...

Sheet Kelas
A1: Nama Kelas
A2: D3 TS-2A
A3: D3 TS-2B
A4: D3 TS-2C
A5: D3 TS-2D
A6: D3 TS-4A
A7: D3 TS-4B
A8: D3 TS-4C
A9: D3 TS-6A
A10: D3 TS-6B
A11: D3 TS-6C
A12: STr. MPK-2A
... A32: D2 FBPJ-2A

Sheet Dosen
A1: Kode dan Nama Dosen
A2: 01 - Prof. Dr.Ir. Lilik Sudiajeng, M.Erg.
A3: 02 - Ir. Made Mudhina, M.T.
A4: 03 - Ir. P.D. Pariawan S., M.Sc., MIHT
A5: 04 - Ir. I Made Tapa Yasa, M.Si.
A6: 05 - Ir. I Made Suardana Kader, M.T.
A7: 06 - Ir. I Wayan Wiraga, M.T.
A8: 07 - I Wayan Sujahtra, S.T., M.T.
A9: 08 - I Wayan Darya Suparta, S.ST., M.T.
A10: 09 - Ir. I Wayan Sudiasa, M.T.
A11: 10 - I Nyoman Ramia, S.T., M.T.
A12: 11 - Dr. I Ketut Sutapa, S.ST.,M.T.
... A66: 65 - I Putu Ari Utama Irawan, S.Pd., M.Pd.

Sheet DayTime
A1: Hari | B1: Hari Ke-
A2: Senin | B2: 1
A3: Selasa | B3: 2
A4: Rabu | B4: 3
A5: Kamis | B5: 4
A6: Jumat | B6: 5
A8: Jam | B8: Jam Ke-
A9: 08:00 - 08:50 | B9: 1
A10: 08:50 - 09:40 | B10: 2
A11: 10:00 - 10:50 | B11: 3
A12: 10:50 - 11:40 | B12: 4
A13: 12:00 - 12:50 | B13: 5
A14: 12:50 - 13:40 | B14: 6
A15: 13:50 - 14:40 | B15: 7
A16: 14:40 - 15:30 | B16: 8
